BEGIN:VCALENDAR
VERSION:2.0
PRODID:-//Manpasand Life - ECPv6.13.2.1//NONSGML v1.0//EN
CALSCALE:GREGORIAN
METHOD:PUBLISH
X-WR-CALNAME:Manpasand Life
X-ORIGINAL-URL:https://www.manpasandlife.org
X-WR-CALDESC:Events for Manpasand Life
REFRESH-INTERVAL;VALUE=DURATION:PT1H
X-Robots-Tag:noindex
X-PUBLISHED-TTL:PT1H
BEGIN:VTIMEZONE
TZID:Asia/Kolkata
BEGIN:STANDARD
TZOFFSETFROM:+0530
TZOFFSETTO:+0530
TZNAME:IST
DTSTART:20150101T000000
END:STANDARD
END:VTIMEZONE
BEGIN:VEVENT
DTSTART;VALUE=DATE:20220214
DTEND;VALUE=DATE:20220216
DTSTAMP:20260424T000510
CREATED:20231219T230304Z
LAST-MODIFIED:20231229T001307Z
UID:3883-1644834600-1644920999@www.manpasandlife.org
SUMMARY:KALAYUKTI
DESCRIPTION:On Valentine’s Day \,Manpasand Life has launched a venture – KALAYUKTI. \nThis venture will take our Empowered Self Employed Women one step further .Manpasand life is giving them a platform through a whatsapp group where they will not only promote themselves but also each other’s skill and talent. \nA brief introduction :- \n1)Vanita Chauhan – Makeup and Hair Artist \n2) Vasu Rathod – Cakes and Candle making \n3) Yogita Gabare – All types of ladoos and Toran \n4) Geeta Baria – Beautician \n5) Tarannum Sheikh – Products – Cloth bags\, \nPouches \,Laptop sleeves\, Bottle covers etc… \n6) Jyoti Sharma – Crochet and embroidery. \nWish us luck on our endeavour to promote our women entrepreneurs .
URL:https://www.manpasandlife.org/event/kalayukti/
CATEGORIES:Events
ATTACH;FMTTYPE=image/jpeg:https://www.manpasandlife.org/wp-content/uploads/2023/12/VDay-307x270-1.jpg
END:VEVENT
BEGIN:VEVENT
DTSTART;VALUE=DATE:20220123
DTEND;VALUE=DATE:20220125
DTSTAMP:20260424T000510
CREATED:20231219T225408Z
LAST-MODIFIED:20231219T225408Z
UID:3880-1642933800-1643020199@www.manpasandlife.org
SUMMARY:Awareness workshop of Menstrual cups
DESCRIPTION:A reusable Eco Friendly Feminine Hygiene Product.  \nDistributed at Dharavi by Manpasand Life with SWAN NGO on 23rd Jan 2022.
URL:https://www.manpasandlife.org/event/awareness-workshop-of-menstrual-cups/
CATEGORIES:Events
ATTACH;FMTTYPE=image/jpeg:https://www.manpasandlife.org/wp-content/uploads/2023/12/Ecofriendly.jpg
END:VEVENT
BEGIN:VEVENT
DTSTART;VALUE=DATE:20210612
DTEND;VALUE=DATE:20210614
DTSTAMP:20260424T000510
CREATED:20210612T001845Z
LAST-MODIFIED:20210702T235538Z
UID:3765-1623490200-1623576599@www.manpasandlife.org
SUMMARY:Mask and Food Distribution
DESCRIPTION:During the Covid Pandemic Manpasand Life decided to contribute towards helping the underprivileged in our communities across Mumbai. We commissioned our tailoring ladies to make masks for the underprivileged by providing them material and payment for the masks they made\, it also gave our tailoring ladies livelihood to support their families in these tough times. \nManpasand Life urged our donors to contribute towards essential food grains\, we collected money from our donors and distributed food grains and other essentials in the communities.
URL:https://www.manpasandlife.org/event/mask-and-food-distribution/
CATEGORIES:Events
ATTACH;FMTTYPE=image/png:https://www.manpasandlife.org/wp-content/uploads/2021/06/Picture1.png
END:VEVENT
BEGIN:VEVENT
DTSTART;VALUE=DATE:20210601
DTEND;VALUE=DATE:20210603
DTSTAMP:20260424T000510
CREATED:20231219T222930Z
LAST-MODIFIED:20231219T222930Z
UID:3877-1622539800-1622626199@www.manpasandlife.org
SUMMARY:HELP US HELP THEM FLATTEN THE CURVE !!
DESCRIPTION:Manpasand Life is distributing handmade masks (by our tailoring girls) to the Underprivileged Community of Shivaji Nagar and Anand Nagar(Chembur ). \nDonating Rs 100 (for 4 masks )will protect a family from Covid 19.
URL:https://www.manpasandlife.org/event/help-us-help-them-flatten-the-curve/
CATEGORIES:Events
ATTACH;FMTTYPE=image/jpeg:https://www.manpasandlife.org/wp-content/uploads/2023/12/Masks.jpg
END:VEVENT
BEGIN:VEVENT
DTSTART;VALUE=DATE:20200308
DTEND;VALUE=DATE:20200310
DTSTAMP:20260424T000510
CREATED:20210702T234828Z
LAST-MODIFIED:20210702T234828Z
UID:3859-1583663400-1583746199@www.manpasandlife.org
SUMMARY:Women’s Day was celebrated at the Manpasand Life center with our women achievers
DESCRIPTION:Our women achievers were appreciated and others were motivated\, everyone celebrated and took pride in being a woman. \nAn interactive activity session with a Quiz was conducted!! \nLaughter was exchanged when we asked thought provoking questions like:- \n\nDefining yourself as an individual\, not the roles that you play as a women.\nGive a one line message to a man.\nWhen was the first time you knew that you were different from a man?\nIf you were given a single day to make a change for all women\, what would it be like what would you change?\n\n  \nWe ended the celebration with snacks and cold drinks with a lot of chattering and impromptu sharing of thoughts and experiences by the students with their teachers.
URL:https://www.manpasandlife.org/event/womens-day-was-celebrated-at-the-manpasand-life-center-with-our-women-achievers/
CATEGORIES:Events
ATTACH;FMTTYPE=image/jpeg:https://www.manpasandlife.org/wp-content/uploads/2021/07/womens-day-2020.jpg
END:VEVENT
BEGIN:VEVENT
DTSTART;VALUE=DATE:20190703
DTEND;VALUE=DATE:20190705
DTSTAMP:20260424T000510
CREATED:20210702T234019Z
LAST-MODIFIED:20210702T234218Z
UID:3856-1562146200-1562232599@www.manpasandlife.org
SUMMARY:Manpasand Life Vision Board Activity at our partner Ngo – Antarang with their Career Ready adults
DESCRIPTION:Vision boards provide you with a daily visual reminder of your dreams and goals. This helps the kids remain focused in their career options . Our Volunteer teachers Ms Bijal and Ms Leena helped Ms Shailaja \,our Spoken  English Trainer do this activity at the Antarang Centre at Lalbaug. \nIt was hearting and amazing to see what the children’s aspirations were.
URL:https://www.manpasandlife.org/event/manpasand-life-vision-board-activity-at-our-partner-ngo-antarang-with-their-career-ready-adults/
CATEGORIES:Events
ATTACH;FMTTYPE=image/jpeg:https://www.manpasandlife.org/wp-content/uploads/2021/07/vision-board.jpg
END:VEVENT
BEGIN:VEVENT
DTSTART;VALUE=DATE:20190411
DTEND;VALUE=DATE:20190413
DTSTAMP:20260424T000510
CREATED:20210421T090305Z
LAST-MODIFIED:20210612T002555Z
UID:3714-1554975000-1555061399@www.manpasandlife.org
SUMMARY:Sponsored Cricket Match
DESCRIPTION:Our Patron Mr Nitesh is very passionate Sportsman. Who believes that playing any sport builds character. He and his wife Ms. Chiral were very keen to host a football event for underprivileged children. Manpasand Life organized a sponsored football event at Astro Turf in Raghuvanshi Mills\, Lower Parel\, for the underprivileged kids of BMC school. Mr. & Mrs. Shah’s friends came to support this event and enjoyed themselves playing with the young kids \, Brijwasi Sweets was kind enough to sponsor the snacks that the hungry and thirsty kids took home after the match .
URL:https://www.manpasandlife.org/event/sponsored-cricket-match/
CATEGORIES:Events
ATTACH;FMTTYPE=image/jpeg:https://www.manpasandlife.org/wp-content/uploads/2021/04/Sponsored-Cricket-Match.jpg
END:VEVENT
BEGIN:VEVENT
DTSTART;VALUE=DATE:20190410
DTEND;VALUE=DATE:20190412
DTSTAMP:20260424T000510
CREATED:20210421T090149Z
LAST-MODIFIED:20210612T002613Z
UID:3711-1554888600-1554974999@www.manpasandlife.org
SUMMARY:Shoes Donation Drive
DESCRIPTION:When we asked our partner ngo Urja – a shelter for distressed women near Dadar station what they wanted\, they requested us for shoes and chappals in good condition for the women who stay there.
URL:https://www.manpasandlife.org/event/shoes-donation-drive/
CATEGORIES:Events
ATTACH;FMTTYPE=image/jpeg:https://www.manpasandlife.org/wp-content/uploads/2021/04/Shoes-Donation-Drive.jpg
END:VEVENT
BEGIN:VEVENT
DTSTART;VALUE=DATE:20190401
DTEND;VALUE=DATE:20190403
DTSTAMP:20260424T000510
CREATED:20210421T085654Z
LAST-MODIFIED:20210612T002619Z
UID:3707-1554111000-1554197399@www.manpasandlife.org
SUMMARY:Playday event
DESCRIPTION:A Playday event sponsored by our Patrons Mr. Nitesh and Mrs. Chiral Shah for the underprivileged children of B J Orphanage and AAWC nonprofit at the YAYA Play Area .
URL:https://www.manpasandlife.org/event/playday-event/
CATEGORIES:Events
ATTACH;FMTTYPE=image/jpeg:https://www.manpasandlife.org/wp-content/uploads/2021/04/Playday-event.jpg
END:VEVENT
BEGIN:VEVENT
DTSTART;VALUE=DATE:20190308
DTEND;VALUE=DATE:20190310
DTSTAMP:20260424T000510
CREATED:20210421T090513Z
LAST-MODIFIED:20210702T235356Z
UID:3717-1552041000-1552127399@www.manpasandlife.org
SUMMARY:Women’s Day at Café Arpan
DESCRIPTION:Café Arpan is run by and for Children with Downs Syndrome. We came to know about it through one of our volunteers . Manpasand Life decided to host a Womens Day event with the homemakers form Wadala at this café as a support to the café. \nThe event was supported by one of our Donors . The women and the adults of the Apran Café played antakshari as a joint event . It was a very unique way to celebarte womens day to see the happy faces of the children who are trying to live a normal life .
URL:https://www.manpasandlife.org/event/womens-day-at-cafe-arpan/
CATEGORIES:Events
ATTACH;FMTTYPE=image/jpeg:https://www.manpasandlife.org/wp-content/uploads/2021/04/Womens-Day-at-Café-Arpan.jpg
END:VEVENT
BEGIN:VEVENT
DTSTART;VALUE=DATE:20181021
DTEND;VALUE=DATE:20181023
DTSTAMP:20260424T000510
CREATED:20210421T084647Z
LAST-MODIFIED:20210702T232800Z
UID:3701-1540114200-1540200599@www.manpasandlife.org
SUMMARY:The Make-up Workshop
DESCRIPTION:One of our Ex-Students – Ms. Vanita who is a professional make-up artist\, she wanted to give back to Manpasand Life. \nSo\, she suggested that she would teach professional make up to those who can further use it become professional’s like her. So Manpasand life had a special make over session for the girls who were interested.
URL:https://www.manpasandlife.org/event/the-make-up-workshop/
CATEGORIES:Events
ATTACH;FMTTYPE=image/jpeg:https://www.manpasandlife.org/wp-content/uploads/2021/04/The-Make-up-Workshop.jpg
END:VEVENT
BEGIN:VEVENT
DTSTART;VALUE=DATE:20180901
DTEND;VALUE=DATE:20180903
DTSTAMP:20260424T000510
CREATED:20210421T084540Z
LAST-MODIFIED:20210702T232652Z
UID:3698-1535794200-1535880599@www.manpasandlife.org
SUMMARY:Food Drive
DESCRIPTION:In Sept 2018 we decided to do a food drive. The food boxes were supplied by Brijwasi Sweets\, we collected donations towards the food packets. We invited our donors to come and help us to distribute food packets to Hathgadiwallas \, Metro workers \, Children of Sex workers \,Children’s home \,  Old age home etc…. \nIt was a fun filled afternoon\, where the donors helped fill the food boxes and segregated them in 5 different cars to go to 5 different destinations.
URL:https://www.manpasandlife.org/event/food-drive/
CATEGORIES:Events
ATTACH;FMTTYPE=image/jpeg:https://www.manpasandlife.org/wp-content/uploads/2021/04/Food-Drive.jpg
END:VEVENT
BEGIN:VEVENT
DTSTART;VALUE=DATE:20180731
DTEND;VALUE=DATE:20180802
DTSTAMP:20260424T000510
CREATED:20210421T090810Z
LAST-MODIFIED:20210612T002800Z
UID:3720-1533029400-1533115799@www.manpasandlife.org
SUMMARY:Antarang Vision Board Activity
DESCRIPTION:Manpasand Life and our partner Ngo\, Antarang did a vision Board activity with their Career Ready adults. \nVision boards provide you with a daily visual reminder of your dreams and goals. This helps the kids remain focused in their career options . Our Volunteer teachers Ms Bijal and Ms Leena helped Ms Shailaja \,our Spoken  English Trainer do this activity at the Antarang Centre at Lalbaug. \nIt was hearting and amazing to see what the children’s aspirations were.
URL:https://www.manpasandlife.org/event/antarang-vision-board-activity/
CATEGORIES:Events
ATTACH;FMTTYPE=image/jpeg:https://www.manpasandlife.org/wp-content/uploads/2021/04/Antarang-Vision-Board-Activity.jpg
END:VEVENT
BEGIN:VEVENT
DTSTART;VALUE=DATE:20180308
DTEND;VALUE=DATE:20180310
DTSTAMP:20260424T000510
CREATED:20210421T085409Z
LAST-MODIFIED:20210702T235326Z
UID:3704-1520505000-1520591399@www.manpasandlife.org
SUMMARY:Women’s Day Painting workshop at Anand Nagar – Chembur
DESCRIPTION:Ms. Kajal Mehta who is a self-taught artist offered to do a painting workshop in Anand Nagar Slum (Chembur) for Women’s Day. Manpasand Life wanted to do something that would be elevating to the women of Anand Nagar Slum\, something they wouldn’t have a chance to do in their regular life.  It was a colorful and fun filled afternoon where the women could happily take home their paintings.
URL:https://www.manpasandlife.org/event/womens-day-painting-workshop-at-anand-nagar-chembur/
CATEGORIES:Events
ATTACH;FMTTYPE=image/jpeg:https://www.manpasandlife.org/wp-content/uploads/2021/04/Womens-Day-Painting-workshop-at-Anand-Nagar-–-Chembur.jpg
END:VEVENT
BEGIN:VEVENT
DTSTART;VALUE=DATE:20171214
DTEND;VALUE=DATE:20171216
DTSTAMP:20260424T000510
CREATED:20210421T084234Z
LAST-MODIFIED:20210702T232534Z
UID:3695-1513247400-1513333799@www.manpasandlife.org
SUMMARY:The Soap Making Workshop
DESCRIPTION:Our Volunteer Ms. Karishma Lalwani taught our Manpasand Life women the art of soap making . These soaps are organically made \,the women can make them at home and make it a livelihood option for them.
URL:https://www.manpasandlife.org/event/the-soap-making-workshop/
CATEGORIES:Events
ATTACH;FMTTYPE=image/jpeg:https://www.manpasandlife.org/wp-content/uploads/2021/04/The-Soap-Making-Workshop.jpg
END:VEVENT
BEGIN:VEVENT
DTSTART;VALUE=DATE:20171213
DTEND;VALUE=DATE:20171215
DTSTAMP:20260424T000510
CREATED:20210421T084008Z
LAST-MODIFIED:20210702T232416Z
UID:3691-1513161000-1513247399@www.manpasandlife.org
SUMMARY:The Grooming Workshop
DESCRIPTION:On Dec 13th Our Manpasand Life Patron  Ms . Poonam was gracious enough to give our girls an opportunity to give them first hand training from a professional Ms. Vishaka who trains  girls for the Miss India.
URL:https://www.manpasandlife.org/event/the-grooming-workshop/
CATEGORIES:Events
ATTACH;FMTTYPE=image/jpeg:https://www.manpasandlife.org/wp-content/uploads/2021/04/The-Grooming-Workshop.jpg
END:VEVENT
BEGIN:VEVENT
DTSTART;VALUE=DATE:20171103
DTEND;VALUE=DATE:20171105
DTSTAMP:20260424T000510
CREATED:20210702T232149Z
LAST-MODIFIED:20210702T232149Z
UID:3848-1509701400-1509787799@www.manpasandlife.org
SUMMARY:Candle making workshop for the women from Wadala
DESCRIPTION:Manpasand Life conducted a special candle making session with our teacher \, Karishma Lalwani for Homemakers of our Wadala community. This workshop was organised to enable them to  earn a living within the confines of their home.
URL:https://www.manpasandlife.org/event/candle-making-workshop-for-the-women-from-wadala/
CATEGORIES:Events
ATTACH;FMTTYPE=image/jpeg:https://www.manpasandlife.org/wp-content/uploads/2021/07/candle-makign-workshop.jpg
END:VEVENT
BEGIN:VEVENT
DTSTART;VALUE=DATE:20171010
DTEND;VALUE=DATE:20171012
DTSTAMP:20260424T000510
CREATED:20210421T083839Z
LAST-MODIFIED:20210702T231706Z
UID:3688-1507627800-1507714199@www.manpasandlife.org
SUMMARY:Celebrating Navratri
DESCRIPTION:Each year\, on each day of Navratri\, an incarnation of “Goddess Durga” is worshipped to celebrate the day of her victory over Mahishasura\, and the ultimate victory of ‘Good over Evil.” \nThe Manpasand Life Tailoring ladies decided to celebrate Navratri – The festival of traditional Garba. \nSo we had an impromptu Garba session .With everybody dressed in their traditional clothes participated in the traditional Garba Folk dance which made an afternoon of fun and dance.
URL:https://www.manpasandlife.org/event/celebrating-navratri/
CATEGORIES:Events
ATTACH;FMTTYPE=image/jpeg:https://www.manpasandlife.org/wp-content/uploads/2021/04/Celebrating-Navratri.jpg
END:VEVENT
BEGIN:VEVENT
DTSTART;VALUE=DATE:20170813
DTEND;VALUE=DATE:20170815
DTSTAMP:20260424T000510
CREATED:20210421T081941Z
LAST-MODIFIED:20210702T231422Z
UID:3681-1502616600-1502702999@www.manpasandlife.org
SUMMARY:Manpasand Life Painting Fundraiser
DESCRIPTION:On one of our 5th Anniversary our  a young volunteer Ms. Urvi Gupta offered to help us to organise a painting fund raiser. \nWhere we had our patrons came to paint and have an afternoon of fun. We raised funds for our  under privileged beneficiaries\, as they too participated in the painting fundraiser.
URL:https://www.manpasandlife.org/event/manpasand-life-painting-fundraiser/
CATEGORIES:Events
ATTACH;FMTTYPE=image/jpeg:https://www.manpasandlife.org/wp-content/uploads/2021/04/Manpasand-Life-Painting-Fundraiser.jpg
END:VEVENT
BEGIN:VEVENT
DTSTART;VALUE=DATE:20170308
DTEND;VALUE=DATE:20170310
DTSTAMP:20260424T000510
CREATED:20210702T230935Z
LAST-MODIFIED:20210702T235300Z
UID:3842-1488969000-1489055399@www.manpasandlife.org
SUMMARY:Women’s Day at Starbucks
DESCRIPTION:We took our young Spoken English  girls to Starbucks Coffee  Shop for Women’s Day \,where they ordered their own coffee and snack .It gave them the confidence to go out in the world and took away the fear of the language . A Special Thank you to the Starbucks ( Wilson College) staff for having the patience and for helping us in organising this event .
URL:https://www.manpasandlife.org/event/womens-day-at-starbucks/
CATEGORIES:Events
ATTACH;FMTTYPE=image/jpeg:https://www.manpasandlife.org/wp-content/uploads/2021/07/starbucks.jpg
END:VEVENT
BEGIN:VEVENT
DTSTART;VALUE=DATE:20160813
DTEND;VALUE=DATE:20170816
DTSTAMP:20260424T000510
CREATED:20180623T001924Z
LAST-MODIFIED:20210612T002822Z
UID:3247-1471080600-1502789399@www.manpasandlife.org
SUMMARY:Manpasand 4th Anniversary
DESCRIPTION:Manpasand Life celebrated its 4 year on 13th Aug 2016. To mark this occasion we decided to involve our teachers in the celebration to appreciation their efforts and consistent support to Manpasand Life. \nThe teachers created a collage on what Manpasand Life means for them\, by coloring\, cutting up old magazines etc… on a big chart paper. Expressing their feelings and struggles in collage. \nIt was great bonding exercise for the Manpasand Life Team.
URL:https://www.manpasandlife.org/event/manpasand-4th-anniversary-2/
CATEGORIES:Events
ATTACH;FMTTYPE=image/jpeg:https://www.manpasandlife.org/wp-content/uploads/2018/06/Manpasand-4th-Anniversary.jpg
END:VEVENT
BEGIN:VEVENT
DTSTART;VALUE=DATE:20160803
DTEND;VALUE=DATE:20160805
DTSTAMP:20260424T000510
CREATED:20180606T015434Z
LAST-MODIFIED:20210612T002829Z
UID:3090-1470216600-1470302999@www.manpasandlife.org
SUMMARY:Handmade card making for our Donors
DESCRIPTION:On 3rd August 2016 our old students came back to the center to decorate and make personalized “Thank you “cards for the 4th Anniversary of Manpasand life. The cards were sent to all our Donors who have helped us in our journey of 4 years as a token of appreciation from the students. \nAlthough the names of the donors and the names of the students were kept anonymous it was an exercise of gratitude for everyone at Manpasand Life. We hope the personalized gratitude shared in those handmade cards made our donors feel appreciated.
URL:https://www.manpasandlife.org/event/handmade-card-making-for-our-donors/
LOCATION:Manpasand Life center\, Mumbai\,\, Maharashtra\, India
CATEGORIES:Events
ATTACH;FMTTYPE=image/jpeg:https://www.manpasandlife.org/wp-content/uploads/2018/06/WhatsApp-Image-2018-08-10-at-6.40.47-PM.jpeg
END:VEVENT
BEGIN:VEVENT
DTSTART;VALUE=DATE:20160614
DTEND;VALUE=DATE:20160616
DTSTAMP:20260424T000510
CREATED:20180606T020938Z
LAST-MODIFIED:20210612T002835Z
UID:3096-1465896600-1465982999@www.manpasandlife.org
SUMMARY:Drama workshop
DESCRIPTION:On the June 14th 2016 we had a Drama orientation for our students at our center. It was a mixed class of different age groups. This was done by a volunteer Ms. Chetna Malhotra. She uses drama and movement as a method to encourage better expression. \nThis exercise was a fun workshop where the students were encouraged to participate in different ways .Through this drama workshop we hope to loosen everyone up a little bit and get them to express freely. It was heartwarming to see everyone enjoying themselves like little children!!
URL:https://www.manpasandlife.org/event/drama-workshop/
CATEGORIES:Events
ATTACH;FMTTYPE=image/jpeg:https://www.manpasandlife.org/wp-content/uploads/2018/06/Drama-e1533629122730.jpg
END:VEVENT
BEGIN:VEVENT
DTSTART;VALUE=DATE:20160607
DTEND;VALUE=DATE:20180608
DTSTAMP:20260424T000510
CREATED:20180606T020619Z
LAST-MODIFIED:20210612T002844Z
UID:3092-1465291800-1528363799@www.manpasandlife.org
SUMMARY:Westside Visit
DESCRIPTION:On June 7th 2016 we took our students for a visit to Westside (the departmental store). \nThe students were accompanied by a few of our volunteers. They had to converse with the Westside sales staff in English pretending they are buying something. \nThe Westside staff was extremely helpful\, they made sure our students had a positive experience. The purpose of this exercise was to give the students a chance to practice what they had learnt in their Spoken English class and also to give them the confidence to be able to converse to strangers in English. \nAfter the interaction the students and volunteers enjoyed a cup of coffee with eats at the cafeteria in West Side. This was an exciting new experience for the students!!!
URL:https://www.manpasandlife.org/event/westside-visit/
LOCATION:Westside\, India
CATEGORIES:Events
ATTACH;FMTTYPE=image/jpeg:https://www.manpasandlife.org/wp-content/uploads/2018/06/Westside-Visit.jpg
END:VEVENT
BEGIN:VEVENT
DTSTART;VALUE=DATE:20160513
DTEND;VALUE=DATE:20160625
DTSTAMP:20260424T000510
CREATED:20180623T003335Z
LAST-MODIFIED:20210612T002851Z
UID:3255-1463131800-1466760599@www.manpasandlife.org
SUMMARY:English Speaking Open house
DESCRIPTION:Our Spoken English students don’t get enough practice to speak in English after they finished their course with us. This is because they go back to an environment where they don’t have an opportunity to practice speaking English. \nWe decided to do conduct an open house where the students could come voluntarily on a fixed day every two weeks and practice their English through games and activities\, this was different from what they did in their regular classes. The open house was done at the center by Nimisha Vora and our volunteer teacher\, Lina Shah would also help out on alternate Friday’s from 2pm to 4pm. It is all about speaking English with fun and games !!
URL:https://www.manpasandlife.org/event/english-speaking-open-house/
CATEGORIES:Events
ATTACH;FMTTYPE=image/jpeg:https://www.manpasandlife.org/wp-content/uploads/2018/06/Eng_spg_open_house_.jpg
END:VEVENT
BEGIN:VEVENT
DTSTART;VALUE=DATE:20160308
DTEND;VALUE=DATE:20160310
DTSTAMP:20260424T000510
CREATED:20180623T004339Z
LAST-MODIFIED:20210612T002858Z
UID:3258-1457433000-1457519399@www.manpasandlife.org
SUMMARY:Women’s day celebration – motivational games
DESCRIPTION:Women’s Day was celebrated at the Manpasand Life center with our women achievers. \nOur women achievers were appreciated and others were motivated\, everyone celebrated and took pride in being a woman. \nAn interactive activity session with a Quiz was conducted!! \nLaughter was exchanged when we asked thought provoking questions like:- \n\nDefining yourself as an individual\, not the roles that you play as a women.\nGive a one line message to a man.\nWhen was the first time you knew that you were different from a man?\nIf you were given a single day to make a change for all women\, what would it be like what would you change?\n\n  \nWe ended the celebration with snacks and cold drinks with a lot of chattering and impromptu sharing of thoughts and experiences by the students with their teachers.
URL:https://www.manpasandlife.org/event/womens-day-celebration-motivational-games/
CATEGORIES:Events
ATTACH;FMTTYPE=image/jpeg:https://www.manpasandlife.org/wp-content/uploads/2018/06/Womens-Day-Celebration.jpg
END:VEVENT
BEGIN:VEVENT
DTSTART;VALUE=DATE:20160206
DTEND;VALUE=DATE:20170208
DTSTAMP:20260424T000510
CREATED:20180623T004841Z
LAST-MODIFIED:20210612T002905Z
UID:3262-1454754600-1486463399@www.manpasandlife.org
SUMMARY:Women’s health workshop
DESCRIPTION:This workshop was organized by our student Ms. Vasanti Rathod in her community at a slum near Minerva Cinema\, Tardeo. \nThe purpose of doing this workshop was to bring awareness amongst the women with regards to their personal hygiene and to help them identify the challenges of menopause and how to deal with them in a positive manner. \nThe Workshop was conducted by our volunteer Ms. Chiral Sheth. A power point presentation was followed by interactive sessions of questions and answers. Here the women could ask questions which they are generally not allowed to address in their own society .This form of communication helps them deal with health issues and Menopause in a more practical way with the scientific understanding of How and Why !!
URL:https://www.manpasandlife.org/event/womens-health-workshop/
CATEGORIES:Events
ATTACH;FMTTYPE=image/jpeg:https://www.manpasandlife.org/wp-content/uploads/2018/06/Mpl_health_and_hygiene-e1533629025600.jpg
END:VEVENT
BEGIN:VEVENT
DTSTART;VALUE=DATE:20160124
DTEND;VALUE=DATE:20170126
DTSTAMP:20260424T000510
CREATED:20180623T005521Z
LAST-MODIFIED:20210612T002953Z
UID:3265-1453631400-1485340199@www.manpasandlife.org
SUMMARY:Garage sale
DESCRIPTION:The garage sale is a joint event organized by the students and the Manpasand Life Team every 6 months. \nWe put the word out to all friends\, family\, well-wishers and their contacts through Whatsapp and Facebook that collections for a garage sale have started. A varied collection of Items like Clothing for Men and Women\, Sari’s\, Household items\, Children’s clothing and Toys are collected through donations. Manpasand Life Volunteers help us with the sorting\, tagging\, labeling and arranging of all the items. \nThe garage sale is held at the Manpasand Life center. The students are called and informed about the day and time of the sale so they can benefit from it since all items are priced very low. \nThe sale on 24th January was like a shopping mela for the students\, with lots of interaction within the students themselves and with the Manpasand Life Team in a festive fun\, atmosphere. \nThis joint effort is a great bonding exercise for all the students\, the volunteers\, the teachers\, the trustees and well-wishers\, where everyone comes together and contributes in making the Garage sale a success!!!
URL:https://www.manpasandlife.org/event/garage-sale-2/
CATEGORIES:Events
ATTACH;FMTTYPE=image/jpeg:https://www.manpasandlife.org/wp-content/uploads/2018/06/garage_sale_collage.jpg
END:VEVENT
BEGIN:VEVENT
DTSTART;VALUE=DATE:20150810
DTEND;VALUE=DATE:20150812
DTSTAMP:20260424T000510
CREATED:20180605T234959Z
LAST-MODIFIED:20210612T003003Z
UID:3066-1439199000-1439285399@www.manpasandlife.org
SUMMARY:Women’s support group
DESCRIPTION:It was noticed that most of our students who were housewives were unable to express themselves during our Spoken English classes. We started a voluntarily support group with the intention to help them communicate better and to think out of the box and develop an “I can” attitude. \nOn 10th August\, 2015\, the first batch comprising of 4 students and conducted by Nimisha Vora started on a weekly basis. The sessions involved activities where they would share life experiences and goal setting which helped them create an alternative thought process. This is an ongoing process. New members join the group as and when identified.
URL:https://www.manpasandlife.org/event/womens-support-group/
CATEGORIES:Events
ATTACH;FMTTYPE=image/jpeg:https://www.manpasandlife.org/wp-content/uploads/2018/06/Womens-support-group.jpg
END:VEVENT
END:VCALENDAR